BEGIN:VCALENDAR
VERSION:2.0
PRODID:-//Oban - ECPv6.14.2//NONSGML v1.0//EN
CALSCALE:GREGORIAN
METHOD:PUBLISH
X-WR-CALNAME:Oban
X-ORIGINAL-URL:https://www.oban.co.uk
X-WR-CALDESC:Events for Oban
REFRESH-INTERVAL;VALUE=DURATION:PT1H
X-Robots-Tag:noindex
X-PUBLISHED-TTL:PT1H
BEGIN:VTIMEZONE
TZID:Europe/London
BEGIN:DAYLIGHT
TZOFFSETFROM:+0000
TZOFFSETTO:+0100
TZNAME:BST
DTSTART:20240331T010000
END:DAYLIGHT
BEGIN:STANDARD
TZOFFSETFROM:+0100
TZOFFSETTO:+0000
TZNAME:GMT
DTSTART:20241027T010000
END:STANDARD
END:VTIMEZONE
BEGIN:VEVENT
DTSTART;TZID=Europe/London:20240510T193000
DTEND;TZID=Europe/London:20240510T210000
DTSTAMP:20260420T201602
CREATED:20240417T151123Z
LAST-MODIFIED:20240417T151123Z
UID:1352-1715369400-1715374800@www.oban.co.uk
SUMMARY:Lorn Drama Festival
DESCRIPTION:One-act plays in Oban performed by amateur drama clubs.  \nLochnell Primary School A\nThe Roman Invasion of Britain\nAn original script by one of Lochnell’s pupils. A village tribe are invaded by Roman soldiers and a battle commences. Emperor Claudius makes an appearance as a narrator. \nLochnell Primary School B\nThe Romans\nThe Romans is set on a Roman road under construction and a villa full of wealthy Romans preparing for a visit from the Emperor Claudius. \nAccent Players\nFate’s Thread by Stephen Bean\nA ghost story\, a murder mystery and a light comedy. Susan Davies is a successful executive who doesn’t take well to being a ghost. She has to share a cold graveyard with the loud-mouthed Alice (who was burned as a witch in 1647) and the prim miss\, Harriett (stabbed to death\, 1884)\, who won’t accept that the car crash that killed Susan was just an accident?
URL:https://www.oban.co.uk/event/lorn-drama-festival-2/
LOCATION:Corrans Hall\, 54 Corran Esplanade\, Oban\, PA34 5AB
END:VEVENT
BEGIN:VEVENT
DTSTART;TZID=Europe/London:20240509T193000
DTEND;TZID=Europe/London:20240509T213000
DTSTAMP:20260420T201602
CREATED:20240417T150918Z
LAST-MODIFIED:20240417T150949Z
UID:1349-1715283000-1715290200@www.oban.co.uk
SUMMARY:Lorn Drama Festival
DESCRIPTION:One-act plays in Oban performed by amateur drama clubs.  \nOban High School\nAn Inconvenient Crime by Kenneth P. Langer\nAn intriguing short comedy play. A stranger approaches a couple at their home with an unusual request: he asks if he could possibly rob them that evening—only if it’s convenient for them. \nAppin Magnificent Seven \nMarket Value by Liz Dobson\nA comedy in which Martin Oaks is a con man\, relying on his solicitors to keep him out of jail. His latest plan is to sell a rat-trap of a house for a quarter of a million to an unsuspecting couple who don’t know it’s falling down and about to be on a major road route. Or so he thinks… \nSeil Drama Club\nA Bird in the Sand by Caroline Morgan\nA three-handed comedy with a sly twist in the tail. Helen spends her days online\, she’s a one-woman neighbourhood watch. Sophie\, her daughter\, is on the last few days of maternity leave. And Robin\, well he’s in thrall to three women.
URL:https://www.oban.co.uk/event/lorn-drama-festival/
LOCATION:Corrans Hall\, 54 Corran Esplanade\, Oban\, PA34 5AB
END:VEVENT
BEGIN:VEVENT
DTSTART;TZID=Europe/London:20240504T120000
DTEND;TZID=Europe/London:20240505T160000
DTSTAMP:20260420T201602
CREATED:20240412T210741Z
LAST-MODIFIED:20240412T210808Z
UID:1344-1714824000-1714924800@www.oban.co.uk
SUMMARY:Medieval Weekend
DESCRIPTION:Join us for medieval weekend at Dunstaffnage Castle and hear about the tumultuous events between the powerful Bruce and Macdougall families that led to the creation of one of the most powerful clans in Scotland\, the Campbells
URL:https://www.oban.co.uk/event/medieval-weekend/
LOCATION:Dunstaffnage Castle\, Dunbeg\, By Oban\, Argyll\, PA37 1PZ
ATTACH;FMTTYPE=image/jpeg:https://www.oban.co.uk/wp-content/uploads/2023/12/Dunstaffnage_Castle-oban.jpg
END:VEVENT
BEGIN:VEVENT
DTSTART;TZID=Europe/London:20240413T150000
DTEND;TZID=Europe/London:20240413T180000
DTSTAMP:20260420T201602
CREATED:20240307T154031Z
LAST-MODIFIED:20240307T154031Z
UID:1303-1713020400-1713031200@www.oban.co.uk
SUMMARY:Seaweed: Forage\, Wild Craft\, Wild Bathe
DESCRIPTION:Immerse yourself in the healing power of Nature with Vicky\, founder of The Little Foragers Kitchen and Jo and Lauren\, founders of Wild Bathing\, for a forage\, wildcraft and wild bathe at stunning Ganavan Sands\, Oban. \nThis special experience will start with a mindful walk down to the shore to identify and gather seaweeds which will then use to make a Seaweed scrub. \nAfter applying our seaweed srcub we shall rinse ourselves off and head down to the water for an invigorating “dook”\, followed by a warm foot bath and some wild seaweed themed snacks and a hot drink around the fire pit. \nJo and Lauren will have their horse trailer with them for everyone to get changed in and warm blankets to cosy up in and Vicky will have the shelter out to keep us dry if it decides to rain. \nPLEASE CONTACT ORGANISERS BEFORE ATTENDING: https://www.thelittleforagerskitchen.com/
URL:https://www.oban.co.uk/event/seaweed-forage-wild-craft-wild-bathe/
LOCATION:Ganavan Sands\, Oban\, PA34 5TB
END:VEVENT
BEGIN:VEVENT
DTSTART;TZID=Europe/London:20240407T100000
DTEND;TZID=Europe/London:20240407T120000
DTSTAMP:20260420T201602
CREATED:20240307T151720Z
LAST-MODIFIED:20240307T151720Z
UID:1293-1712484000-1712491200@www.oban.co.uk
SUMMARY:“Foraging & Wild Crafting” Course - 2
DESCRIPTION:Join us as we travel through the seasons\, exploring the rituals and customs that rooted our ancestors to Nature and the plants that sustained them. \nThese events will include a wild drink and snack to enjoy at the end of each session. You will take away some plants to wildcraft with at home\, along with some instructions\, or we may use our finds to craft something together on the day\, such as a wild tea\, a tasty snack or some cordage. \nThese will run throughout the year at various locations in and around Glasgow and Oban. \nDuring our session you will learn; \n\nHow to forage for wild food\, medicine and wild crafting materials safely and sustainably\nForaging and the law\nAbout how to identify a wide variety of wild plants\nAbout how to make wild teas\, infusions and tinctures\nHow to connect with the Earth on a deeper\, more meaningful level\n\nNOTE:\nThe walk will be slow paced but uphill in some areas and maybe over fields\, through woodland and along muddy paths.  Please wear sturdy shoes or boots and we highly recommend keeping your legs covered to protect against Nettles\, jaggy Brambles and most importantly Ticks.
URL:https://www.oban.co.uk/event/foraging-wild-crafting-course-2/
LOCATION:Dunolie Woods\, Oban
END:VEVENT
BEGIN:VEVENT
DTSTART;TZID=Europe/London:20240406T100000
DTEND;TZID=Europe/London:20240406T120000
DTSTAMP:20260420T201602
CREATED:20240307T151605Z
LAST-MODIFIED:20240307T151745Z
UID:1291-1712397600-1712404800@www.oban.co.uk
SUMMARY:“Foraging & Wild Crafting” Course
DESCRIPTION:Join us as we travel through the seasons\, exploring the rituals and customs that rooted our ancestors to Nature and the plants that sustained them. \nThese events will include a wild drink and snack to enjoy at the end of each session. You will take away some plants to wildcraft with at home\, along with some instructions\, or we may use our finds to craft something together on the day\, such as a wild tea\, a tasty snack or some cordage. \nThese will run throughout the year at various locations in and around Glasgow and Oban. \nDuring our session you will learn; \n\nHow to forage for wild food\, medicine and wild crafting materials safely and sustainably\nForaging and the law\nAbout how to identify a wide variety of wild plants\nAbout how to make wild teas\, infusions and tinctures\nHow to connect with the Earth on a deeper\, more meaningful level\n\nNOTE:\nThe walk will be slow paced but uphill in some areas and maybe over fields\, through woodland and along muddy paths.  Please wear sturdy shoes or boots and we highly recommend keeping your legs covered to protect against Nettles\, jaggy Brambles and most importantly Ticks.
URL:https://www.oban.co.uk/event/foraging-wild-crafting-course/
LOCATION:Dunolie Woods\, Oban
END:VEVENT
BEGIN:VEVENT
DTSTART;TZID=Europe/London:20240329T093000
DTEND;TZID=Europe/London:20240401T150000
DTSTAMP:20260420T201602
CREATED:20240307T150954Z
LAST-MODIFIED:20240307T150954Z
UID:1285-1711704600-1711983600@www.oban.co.uk
SUMMARY:Easter Eggsplorer Trails
DESCRIPTION:Get ready for a historic Easter trail through some of our most iconic sites including castles\, abbeys\, and forts! Who has been stealing all the Easter Eggs? A sweet-toothed culprit has been squirreling them all away! Solve the trail challenge and a chocolate treat awaits!
URL:https://www.oban.co.uk/event/easter-eggsplorer-trails/
LOCATION:Dunstaffnage Castle\, Dunbeg\, By Oban\, Argyll\, PA37 1PZ
ATTACH;FMTTYPE=image/jpeg:https://www.oban.co.uk/wp-content/uploads/2024/03/easter-2093315_640.jpg
END:VEVENT
BEGIN:VEVENT
DTSTART;TZID=Europe/London:20240307T190000
DTEND;TZID=Europe/London:20240531T200000
DTSTAMP:20260420T201602
CREATED:20240307T154948Z
LAST-MODIFIED:20240307T154948Z
UID:1306-1709838000-1717185600@www.oban.co.uk
SUMMARY:Whisky or Gin Tasting with Charcuterie Pairing
DESCRIPTION:Join us for an evening of decadence with a Cask & Cure pairing event. Enjoy a grazing platter of the finest local meats\, seafood\, and cheeses\, each perfectly paired with your choice of whisky or gin for an experience rich with Scottish culture. \nBe guided through the tasting notes and pairings by expert hosts\, as well as recalling stories of the distilleries that created them. \nSavour a charcuterie grazing board and enjoy stories and mythology from Scotland. \nWe focus on smaller\, independent bottlers of whisky and small batch producers of gin from the Highlands and Hebridean islands. These are drams you will not see on your travels around Scotland! \n£70 per person \nCHECK AVAILABILITY AND TIMES
URL:https://www.oban.co.uk/event/whisky-or-gin-tasting-with-charcuterie-pairing/
LOCATION:Taste of Argyll Kitchen\, 9 Argyll St\,\, Oban\, PA34 5SG
END:VEVENT
BEGIN:VEVENT
DTSTART;TZID=Europe/London:20240307T100000
DTEND;TZID=Europe/London:20240526T170000
DTSTAMP:20260420T201602
CREATED:20240307T153230Z
LAST-MODIFIED:20240307T153230Z
UID:1296-1709805600-1716742800@www.oban.co.uk
SUMMARY:Daily Town Highlights Walking Tour
DESCRIPTION:On this 1.5 hour tour\, immerse yourself in the sights and sounds as you travel back through the centuries to discover the history and culture of Oban. \nFrom £14 per person\nPlease check date and time availablity \nCHECK AVAILABILITY\nOn this 1.5 hour tour\, immerse yourself in the sights and sounds as you travel back through the centuries to discover the history and culture of Oban. Your local\, expert guide will bring the gateway to the Isles to life through tales\, traditions and stories. \nOnce hailed by Queen Victoria as ‘one of the finest spots she has ever seen’\, you’ll soon see why. Walk along our incredible seafront\, discovering our links to the isles and our incredible wildlife\, seeing our Cathedral\, our famous Dog Stone and Oban Distillery too. \nThe tour includes:\n– St Columba’s Cathedral\n– War and Peace Museum\n– Dog Stone\n– Oban Distillery\n– Local wildlife & seafront\nAnd more hidden gems! \nCHECK AVAILABILITY
URL:https://www.oban.co.uk/event/daily-town-walking-tour/
END:VEVENT
BEGIN:VEVENT
DTSTART;TZID=Europe/London:20240222T190000
DTEND;TZID=Europe/London:20240222T210000
DTSTAMP:20260420T201602
CREATED:20240203T114521Z
LAST-MODIFIED:20240203T114521Z
UID:1151-1708628400-1708635600@www.oban.co.uk
SUMMARY:NT Live: Vanya
DESCRIPTION:Andrew Scott (Fleabag) brings multiple characters to life in Simon Stephens’ (The Curious Incident of the Dog in the Night-Time) radical new version of Chekhov’s Uncle Vanya. \nHopes\, dreams\, and regrets are thrust into sharp focus in this one-man adaptation which explores the complexities of human emotions. \nFilmed live during its sold-out run in London’s West End\, Vanya will be playing exclusively in cinemas in 2024.
URL:https://www.oban.co.uk/event/nt-live-vanya/
LOCATION:Oban Phoenix Cinema\, 140 George Street\, Oban
ATTACH;FMTTYPE=image/jpeg:https://www.oban.co.uk/wp-content/uploads/2024/02/mask-3149305_1280.jpg
END:VEVENT
BEGIN:VEVENT
DTSTART;TZID=Europe/London:20240216T213000
DTEND;TZID=Europe/London:20240217T013000
DTSTAMP:20260420T201602
CREATED:20240203T113914Z
LAST-MODIFIED:20240203T113914Z
UID:1147-1708119000-1708133400@www.oban.co.uk
SUMMARY:K9 Kev
DESCRIPTION:Kevin Irvine (K9 Kev) is an emcee and songwriter from the small coastal town of Oban\, Scotland.
URL:https://www.oban.co.uk/event/k9-kev/
LOCATION:Markie Dans\, 1 Victoria Crescent\, Corran Esplanade\, Oban
ATTACH;FMTTYPE=image/jpeg:https://www.oban.co.uk/wp-content/uploads/2024/02/saxophone-546303_1280.jpg
END:VEVENT
BEGIN:VEVENT
DTSTART;TZID=Europe/London:20240216T200000
DTEND;TZID=Europe/London:20240216T220000
DTSTAMP:20260420T201602
CREATED:20240101T115635Z
LAST-MODIFIED:20240101T115635Z
UID:1000-1708113600-1708120800@www.oban.co.uk
SUMMARY:Mark Nelson: All the Best
DESCRIPTION:Mark Nelson\, a highly acclaimed comedian\, will be embarking on his inaugural nationwide tour\, organised by the Scottish Comedy Agency. \nNelson is a highly coveted headliner in the UK and internationally\, known for his unique blend of incisive observations\, social critique\, and uproarious one-liners.
URL:https://www.oban.co.uk/event/mark-nelson-all-the-best/
LOCATION:The View\, Oban
END:VEVENT
BEGIN:VEVENT
DTSTART;TZID=Europe/London:20240208T173000
DTEND;TZID=Europe/London:20240208T193000
DTSTAMP:20260420T201602
CREATED:20240101T120014Z
LAST-MODIFIED:20240101T120014Z
UID:1003-1707413400-1707420600@www.oban.co.uk
SUMMARY:Winter Warmer Clothing Repair Workshops
DESCRIPTION:Do you possess any cherished knitted sweaters that require tender loving care? Are your ideal jeans beginning to deteriorate? Are you interested in acquiring the knowledge to repair them? \nJill\, a dedicated mender/upcycler with over 20 years of experience in textiles\, will be hosting these workshops. She is a strong advocate for sustainability. She is promoting the practice of repairing\, modifying\, transforming\, and enhancing one’s cherished garments\, thereby transforming our connection with the fashion industry. \nThe workshops will take place in the function room and will be divided into three time slots\, each lasting 40 minutes. Kindly ensure your availability throughout the session\, as you will be allocated a specific time slot subsequent to your booking. If you have a preferred time\, kindly inform us after completing your booking by sending an email to the address provided in your booking confirmation.
URL:https://www.oban.co.uk/event/winter-warmer-clothing-repair/
LOCATION:Atlantis Leisure\, Dalriach Road\, Oban\, PA34 5JE
ATTACH;FMTTYPE=image/jpeg:https://www.oban.co.uk/wp-content/uploads/2023/12/crochet-8202792_1280.jpg
END:VEVENT
BEGIN:VEVENT
DTSTART;TZID=Europe/London:20240201T190000
DTEND;TZID=Europe/London:20240201T200000
DTSTAMP:20260420T201602
CREATED:20240101T115335Z
LAST-MODIFIED:20240101T115335Z
UID:998-1706814000-1706817600@www.oban.co.uk
SUMMARY:Healing Through Dance
DESCRIPTION:Join Maria and employ dance as a means to enhance your well-being. Maria is a proficient Contemporary Dancer who combines the pleasure of rhythmic body movement to music with the simultaneous reception of invigorating healing. \nDance is among the earliest art forms that the human body instinctively grasps from birth. Within this class\, the concept of being a proficient or inept dancer does not exist. \nThe human body possesses an innate understanding of its preferred movement patterns. Maria will demonstrate the technique\, and then you can allow your body to move accordingly… \nThe music is intentionally crafted to evoke a wide range of emotions\, allowing you to effectively let go of any negative emotions in the process. The objective is for you to depart from the class with a sense of reduced burden and increased happiness. \nPlease wear garments with a relaxed fit to facilitate unrestricted mobility and remember to bring a container of water. Accessible to individuals regardless of their prior experience. Classes will take place in the rear studio.
URL:https://www.oban.co.uk/event/healing-through-dance/
LOCATION:Atlantis Leisure\, Dalriach Road\, Oban\, PA34 5JE
END:VEVENT
BEGIN:VEVENT
DTSTART;TZID=Europe/London:20240127T193000
DTEND;TZID=Europe/London:20240127T223000
DTSTAMP:20260420T201602
CREATED:20231222T170251Z
LAST-MODIFIED:20231222T170251Z
UID:888-1706383800-1706394600@www.oban.co.uk
SUMMARY:The Legends of American Country Show
DESCRIPTION:The Legends of American Country is back for another extraordinary evening of foot-stomping country nostalgia. \nThis musical extravaganza tour will feature highly praised tributes to renowned artists such as Dolly Parton\, Johnny Cash\, Don Williams\, Patsy Cline\, and Kenny Rogers. Additionally\, there will be new tributes to iconic figures like Hank Williams\, Charley Pride\, Glen Campbell\, Tammy Wynette\, John Denver\, and Jim Reeves. The show will also include numerous popular singalong hit songs. It is a must-see event. \nThe show showcases three exceptional vocalists\, Kelan Browne\, Tracey McAuley\, and Antony McBrien\, who are accompanied by a talented live band of musicians. The band creates an authentic Tennessee sound\, while the stage set and production are of the highest quality. This combination will immerse you in the atmosphere of Nashville\, evoking hand clapping and toe tapping\, all in one unforgettable night.
URL:https://www.oban.co.uk/event/the-legends-of-american-country-show/
LOCATION:Corrans Hall\, 54 Corran Esplanade\, Oban\, PA34 5AB
ATTACH;FMTTYPE=image/jpeg:https://www.oban.co.uk/wp-content/uploads/2023/12/country-show.jpg
END:VEVENT
BEGIN:VEVENT
DTSTART;TZID=Europe/London:20240111T173000
DTEND;TZID=Europe/London:20240111T193000
DTSTAMP:20260420T201602
CREATED:20231222T163827Z
LAST-MODIFIED:20231222T164956Z
UID:884-1704994200-1705001400@www.oban.co.uk
SUMMARY:Winter Warmer Clothing Repair Workshops
DESCRIPTION:Do you possess any cherished knitted sweaters that require tender loving care? Are your ideal jeans beginning to deteriorate? Are you interested in acquiring the knowledge to repair them? \nJill\, a fervent mender/upcycler with over 20 years of experience in textiles\, will be hosting these workshops. She is a strong advocate for sustainability. She is urging individuals to repair\, modify\, transform\, and enhance their cherished garments\, thereby revolutionising our connection with the fashion industry! \nThe workshops will take place in the function room and will be divided into three 40-minute sessions. Kindly ensure your availability throughout the session\, as you will be allocated a specific time slot subsequent to making a reservation. If you have a preferred time\, kindly inform us after completing your booking by sending an email to the address provided in your booking confirmation.
URL:https://www.oban.co.uk/event/winter-warmer-clothing-repair-workshops/
LOCATION:Atlantis Leisure\, Dalriach Road\, Oban\, PA34 5JE
ATTACH;FMTTYPE=image/jpeg:https://www.oban.co.uk/wp-content/uploads/2023/12/crochet-8202792_1280.jpg
END:VEVENT
END:VCALENDAR