BEGIN:VCALENDAR
VERSION:2.0
PRODID:-//Oban - ECPv6.14.2//NONSGML v1.0//EN
CALSCALE:GREGORIAN
METHOD:PUBLISH
X-WR-CALNAME:Oban
X-ORIGINAL-URL:https://www.oban.co.uk
X-WR-CALDESC:Events for Oban
REFRESH-INTERVAL;VALUE=DURATION:PT1H
X-Robots-Tag:noindex
X-PUBLISHED-TTL:PT1H
BEGIN:VTIMEZONE
TZID:Europe/London
BEGIN:DAYLIGHT
TZOFFSETFROM:+0000
TZOFFSETTO:+0100
TZNAME:BST
DTSTART:20250330T010000
END:DAYLIGHT
BEGIN:STANDARD
TZOFFSETFROM:+0100
TZOFFSETTO:+0000
TZNAME:GMT
DTSTART:20251026T010000
END:STANDARD
BEGIN:DAYLIGHT
TZOFFSETFROM:+0000
TZOFFSETTO:+0100
TZNAME:BST
DTSTART:20260329T010000
END:DAYLIGHT
BEGIN:STANDARD
TZOFFSETFROM:+0100
TZOFFSETTO:+0000
TZNAME:GMT
DTSTART:20261025T010000
END:STANDARD
END:VTIMEZONE
BEGIN:VEVENT
DTSTART;VALUE=DATE:20250620
DTEND;VALUE=DATE:20250623
DTSTAMP:20260420T152212
CREATED:20250505T081600Z
LAST-MODIFIED:20250505T081600Z
UID:1445-1750377600-1750636799@www.oban.co.uk
SUMMARY:Oban International Shanty Festival
DESCRIPTION:A weekend of rip-roaring songs and music of the sea courtesy of great musicians\, amidst the spectacular scenery of the Western Highlands.
URL:https://www.oban.co.uk/event/oban-international-shanty-festival/
END:VEVENT
BEGIN:VEVENT
DTSTART;TZID=Europe/London:20250701T100000
DTEND;TZID=Europe/London:20250731T170000
DTSTAMP:20260420T152212
CREATED:20250623T100327Z
LAST-MODIFIED:20250623T100408Z
UID:1448-1751364000-1753981200@www.oban.co.uk
SUMMARY:Guided Tours of Dunollie Castle
DESCRIPTION:Take a guided tour of the Dunollie Museum\, Castle & Grounds in Oban to learn more about the interesting history of Lorn and the Clan MacDougall.  In Dunollie’s outdoor areas\, you can learn about the area’s history\, from prehistoric settlements to the building of Dal-Riadan fortress and the start of the Clan MacDougall.\nFind out about the people who lived in Dunollie Castle and House during happy and sad times\, from the Scottish Wars of Independence to the Jacobite Risings and up to the present day.\nTours last about 45 minutes and require a reasonable level of fitness
URL:https://www.oban.co.uk/event/guided-tour-of-dunollie-castle/
LOCATION:Dunolie Woods\, Oban
ATTACH;FMTTYPE=image/jpeg:https://www.oban.co.uk/wp-content/uploads/2025/06/Dunollie_Castle_Oban.jpg
END:VEVENT
BEGIN:VEVENT
DTSTART;VALUE=DATE:20250703
DTEND;VALUE=DATE:20250801
DTSTAMP:20260420T152212
CREATED:20240307T151256Z
LAST-MODIFIED:20250623T101336Z
UID:1289-1751500800-1754006399@www.oban.co.uk
SUMMARY:Ceilidh Nights
DESCRIPTION:We run regular 2 hours of ceilidh dancing will give our small groups of dancers a true insight to the fascinating music and culture of Scotland. Our expert guides will talk you through the dances so you enjoy an unforgettable evening.\nMonday and Thursday evenings 8.00pm:
URL:https://www.oban.co.uk/event/ceilidh-nights/
LOCATION:The View\, Oban
ATTACH;FMTTYPE=image/jpeg:https://www.oban.co.uk/wp-content/uploads/2024/03/ceilidh-dancing.jpg
END:VEVENT
BEGIN:VEVENT
DTSTART;TZID=Europe/London:20250707T183000
DTEND;TZID=Europe/London:20250707T193000
DTSTAMP:20260420T152212
CREATED:20250623T101725Z
LAST-MODIFIED:20250623T101725Z
UID:1457-1751913000-1751916600@www.oban.co.uk
SUMMARY:The Big Community Quiz
DESCRIPTION:Our Big Community Quiz – prizes for winners and losers!
URL:https://www.oban.co.uk/event/the-big-community-quiz/
LOCATION:The Rockfield Cntre\, The Ash Room\, Oban\, PA34 5DQ
END:VEVENT
BEGIN:VEVENT
DTSTART;TZID=Europe/London:20250714T200000
DTEND;TZID=Europe/London:20250714T213000
DTSTAMP:20260420T152212
CREATED:20250623T100648Z
LAST-MODIFIED:20250623T100648Z
UID:1452-1752523200-1752528600@www.oban.co.uk
SUMMARY:Scottish Summer Country Dance
DESCRIPTION:Enjoy an evening of traditional Scottish Country Dancing. No partner required\, friendly group look forward to showing you the steps with walk through before each dance. Just wear soft soled shoes & bring some water. No need to book\, just turn up on the night. Hosted by the Oban & Lorn branch of RSCDS.We look forward to welcoming you.
URL:https://www.oban.co.uk/event/scottish-summer-country-dance/
LOCATION:Kilmore & Oban Church of Scotland Centre\, Oban
END:VEVENT
BEGIN:VEVENT
DTSTART;TZID=Europe/London:20250815T190000
DTEND;TZID=Europe/London:20250815T210000
DTSTAMP:20260420T152212
CREATED:20250202T174811Z
LAST-MODIFIED:20250202T174811Z
UID:1432-1755284400-1755291600@www.oban.co.uk
SUMMARY:The Vintage Explosion
DESCRIPTION:Get yourself down for a night of astonishing Rock n roll\, Soul & Rhythm and Blues from the amazing Vintage Explosion. \nCatch this chance to see viral sensations The Vintage Explosion. You will be transported back in time for a night of authentic rock n roll\, swing and rhythm and blues.  \n“ This guy….The Vintage Explosion\, is the best white soul singer i’ve ever heard” Sir Rod Stewart
URL:https://www.oban.co.uk/event/the-vintage-explosion/
LOCATION:Corrans Hall\, 54 Corran Esplanade\, Oban\, PA34 5AB
ATTACH;FMTTYPE=image/jpeg:https://www.oban.co.uk/wp-content/uploads/2024/01/music-notes.jpg
END:VEVENT
BEGIN:VEVENT
DTSTART;VALUE=DATE:20250816
DTEND;VALUE=DATE:20250817
DTSTAMP:20260420T152212
CREATED:20250809T141935Z
LAST-MODIFIED:20250809T141935Z
UID:1460-1755302400-1755388799@www.oban.co.uk
SUMMARY:Appin Agricultural Show and Hill Race
DESCRIPTION:
URL:https://www.oban.co.uk/event/appin-agricultural-show-and-hill-race/
END:VEVENT
BEGIN:VEVENT
DTSTART;TZID=Europe/London:20250821T190000
DTEND;TZID=Europe/London:20250821T210000
DTSTAMP:20260420T152212
CREATED:20250809T142453Z
LAST-MODIFIED:20250809T143224Z
UID:1462-1755802800-1755810000@www.oban.co.uk
SUMMARY:Rachel and Holli
DESCRIPTION:  \nRachel and Holli are an emerging duo on the Scottish traditional music scene. They first met in 2016 whilst performing with the Argyll Ceilidh Trail and since then Rachel has graduated from the Royal Conservatoire of Scotland while Holli has become an in-demand player on the Scottish Ceilidh scene. \nBased in Glasgow but drawing on their shared roots in Argyll\, their sound blends accordion\, piano\, fiddle and vocals\, weaving together traditional and contemporary repertoire to create a harmonious and dynamic sound. \nTickets are priced at £10\, with under 12s free. Tickets are available on the door
URL:https://www.oban.co.uk/event/rachel-and-holli/
LOCATION:Seil Community Hall\, Oban\, PA34 4RQ
ATTACH;FMTTYPE=image/jpeg:https://www.oban.co.uk/wp-content/uploads/2025/08/rachel-and-holli.jpg
END:VEVENT
BEGIN:VEVENT
DTSTART;TZID=Europe/London:20260411T190000
DTEND;TZID=Europe/London:20260411T210000
DTSTAMP:20260420T152212
CREATED:20260323T144605Z
LAST-MODIFIED:20260323T144605Z
UID:1612-1775934000-1775941200@www.oban.co.uk
SUMMARY:Country Superstars
DESCRIPTION:The world’s biggest Country Music Tribute Touring Show returns with an award-winning cast\, as seen in London’s West End Leicester Square Theatre\, Grand Ole Opry and Nashville’s Broadway. \nTV and West End Dolly star Sarah Jayne has been performing as Dolly Parton for 30 years and is Europe’s leading tribute to the Queen of Country having worked Dolly Parton’s last two world tours entertaining her VIPs at London’s O2 Arena. \nEach artist not only looks and sounds like the country star they portray\, these professional performers transform themselves through hours of practice at their craft. \nBOOK TICKETS: https://wegottickets.com/event/670466
URL:https://www.oban.co.uk/event/country-superstars/
LOCATION:Corrans Hall\, 54 Corran Esplanade\, Oban\, PA34 5AB
ATTACH;FMTTYPE=image/jpeg:https://www.oban.co.uk/wp-content/uploads/2026/03/6880be6b2e22b_event.jpeg
END:VEVENT
BEGIN:VEVENT
DTSTART;TZID=Europe/London:20260417T193000
DTEND;TZID=Europe/London:20260417T213000
DTSTAMP:20260420T152212
CREATED:20260323T144855Z
LAST-MODIFIED:20260323T144855Z
UID:1615-1776454200-1776461400@www.oban.co.uk
SUMMARY:K-Pop Forever!
DESCRIPTION:K-Pop Forever! is here\, LIVE on stage! Immerse yourself in the worldwide phenomenon that is K-Pop with this all-action tribute concert. Featuring all-live performances of smash-hits including: Blackpink\, BTS\, Twice\, Soda Pop\, Golden and many more\, this is the ultimate non-stop party! \nAmidst a back-drop of world class lighting and effects\, K-Pop Forever! takes audiences on a journey that they will never forget. With breathtaking choreography\, plus songs inspired by the record breaking film K-Pop Demon Hunters\, this production is one not to be missed. K-Pop is taking over the world and this is your chance to experience it\, live and in person.
URL:https://www.oban.co.uk/event/k-pop-forever/
LOCATION:Corrans Hall\, 54 Corran Esplanade\, Oban\, PA34 5AB
ATTACH;FMTTYPE=image/webp:https://www.oban.co.uk/wp-content/uploads/2026/03/kpop.webp
END:VEVENT
BEGIN:VEVENT
DTSTART;TZID=Europe/London:20260418T150000
DTEND;TZID=Europe/London:20260418T170000
DTSTAMP:20260420T152212
CREATED:20260323T145308Z
LAST-MODIFIED:20260323T145308Z
UID:1618-1776524400-1776531600@www.oban.co.uk
SUMMARY:Kid's Theatre: A Home for Hamish
DESCRIPTION:This autumn\, a brand-new family production from Just Us will travel throughout Scotland. \nFor kids ages 4 to 7 and their families\, A Home for Hamish is a lively\, multisensory show that celebrates friendship and imagination through playful storytelling\, dance\, movement\, and British Sign Language. \nA Home for Hamish\, designed by autistic dance artist Lesley Howard (they/them) and Deaf dance artist Clare Adam (she/they)\, transports kids to a fantastical world of exploration. At its heart are May and their imaginary friend\, Hamish the Haggis\, who embark on an unforgettable journey across Scotland in search of the perfect nights sleep. As they climb the tallest mountains\, dance with jellyfish\, and avoid dragons\, they must rely on and support one another along the way\, realising that home is more than just a location—it’s the journey you take with friends. \nPlayfully merging dance\, British Sign Language\, and immersive sensory design\, this 40-minute production creates an inclusive space where all children can see themselves\, their languages\, and their sensory needs represented and celebrated. \nDoors Open at 2:45PM\nStarts at 3:00PM \nBOOK TICKETS AND MORE INFO
URL:https://www.oban.co.uk/event/kids-theatre-a-home-for-hamish/
LOCATION:The Rockfield Cntre\, The Ash Room\, Oban\, PA34 5DQ
ATTACH;FMTTYPE=image/png:https://www.oban.co.uk/wp-content/uploads/2026/03/09971-17673876244976-m.png
END:VEVENT
BEGIN:VEVENT
DTSTART;VALUE=DATE:20260710
DTEND;VALUE=DATE:20260720
DTSTAMP:20260420T152212
CREATED:20240307T150605Z
LAST-MODIFIED:20260323T153518Z
UID:1282-1783641600-1784505599@www.oban.co.uk
SUMMARY:Clipper Round the World Yacht Race
DESCRIPTION:Known as one of the world’s most difficult endurance competitions\, the Clipper Race invites explorers from all walks of life to take on the extraordinary task of racing across the world’s oceans aboard a 70-foot yacht. Teams compete in harsh conditions during their eleven-month circumnavigation in this special event. \nIn the summer of 2026\, the Clipper Race fleet will sail into Oban once more. Additionally\, an even larger cultural festival is planned for the next realm of ocean racers\, according to Bid4Oban and Argyll and Bute Council\, the host port partners. \nOban will be a part of Leg 8: The Atlantic Homecoming\, where Race Crew will engage in a fierce downwind battle from North America to the Race Finish port of Portsmouth\, UK. With the town’s friendly hospitality and being one of the final stops on the global route\, Oban is the ideal location for warm-up celebrations! \nMore detailed information on the Clipper Round the World Yacht Race
URL:https://www.oban.co.uk/event/clipper-round-the-world-yacht-race/
LOCATION:Oban Harbour
ATTACH;FMTTYPE=image/jpeg:https://www.oban.co.uk/wp-content/uploads/2024/03/oban-round-the-world-race.jpg
END:VEVENT
BEGIN:VEVENT
DTSTART;VALUE=DATE:20260827
DTEND;VALUE=DATE:20260828
DTSTAMP:20260420T152212
CREATED:20250623T101201Z
LAST-MODIFIED:20260323T144000Z
UID:1454-1787788800-1787875199@www.oban.co.uk
SUMMARY:Oban Highland Games
DESCRIPTION:The Oban Highland Games\, also known as the Argyllshire Gathering\, is a spectacle of Scottish culture that draws participants and spectators from around the globe to the picturesque town of Oban. \nThe Argyllshire Gathering’s Oban Games\, a day of Highland dancing\, athletics\, heavy field events and solo piping competitions\, is a summertime highlight for both Oban residents and tourists from all over the world. The air is filled with the sound of pipes skirling and the flash of clan colours on kilts as hammers are hurled\, cabers are tossed and runners sprint for the line. \nFULL INFORMATION HERE
URL:https://www.oban.co.uk/event/oban-highland-games/
LOCATION:Mossfield Stadium\, Oban\, PA34 4EL
ATTACH;FMTTYPE=image/jpeg:https://www.oban.co.uk/wp-content/uploads/2024/02/oban-games-header.jpg
END:VEVENT
END:VCALENDAR