BEGIN:VCALENDAR
VERSION:2.0
PRODID:-//Oban - ECPv6.14.2//NONSGML v1.0//EN
CALSCALE:GREGORIAN
METHOD:PUBLISH
X-ORIGINAL-URL:https://www.oban.co.uk
X-WR-CALDESC:Events for Oban
REFRESH-INTERVAL;VALUE=DURATION:PT1H
X-Robots-Tag:noindex
X-PUBLISHED-TTL:PT1H
BEGIN:VTIMEZONE
TZID:Europe/London
BEGIN:DAYLIGHT
TZOFFSETFROM:+0000
TZOFFSETTO:+0100
TZNAME:BST
DTSTART:20250330T010000
END:DAYLIGHT
BEGIN:STANDARD
TZOFFSETFROM:+0100
TZOFFSETTO:+0000
TZNAME:GMT
DTSTART:20251026T010000
END:STANDARD
END:VTIMEZONE
BEGIN:VEVENT
DTSTART;TZID=Europe/London:20250701T100000
DTEND;TZID=Europe/London:20250731T170000
DTSTAMP:20260420T125547
CREATED:20250623T100327Z
LAST-MODIFIED:20250623T100408Z
UID:1448-1751364000-1753981200@www.oban.co.uk
SUMMARY:Guided Tours of Dunollie Castle
DESCRIPTION:Take a guided tour of the Dunollie Museum\, Castle & Grounds in Oban to learn more about the interesting history of Lorn and the Clan MacDougall.  In Dunollie’s outdoor areas\, you can learn about the area’s history\, from prehistoric settlements to the building of Dal-Riadan fortress and the start of the Clan MacDougall.\nFind out about the people who lived in Dunollie Castle and House during happy and sad times\, from the Scottish Wars of Independence to the Jacobite Risings and up to the present day.\nTours last about 45 minutes and require a reasonable level of fitness
URL:https://www.oban.co.uk/event/guided-tour-of-dunollie-castle/
LOCATION:Dunolie Woods\, Oban
ATTACH;FMTTYPE=image/jpeg:https://www.oban.co.uk/wp-content/uploads/2025/06/Dunollie_Castle_Oban.jpg
END:VEVENT
END:VCALENDAR